BEGIN:VCALENDAR
VERSION:2.0
PRODID:-//frconline.org//NONSGML kigkonsult.se iCalcreator 2.30.10//
CALSCALE:GREGORIAN
METHOD:PUBLISH
UID:c23aac3c-a702-425e-af3e-a2ec84572c2a
X-WR-CALDESC:Please note: Classes will be Tuesday evening/Wednesday morning
  through December and then starting in January they will be Tuesday evenin
 g/Thursday morning.\n\nThe Family Law Education Program was created to hel
 p families navigate through restructure and be more prepared to co-parent\
 , so they can better support their children's physical\, social\, emotiona
 l\, and behavioral well-being. The session will discuss ways to build or m
 aintain a positive relationship with the co-parent and will provide a brie
 f overview of the legal process and parenting plan.\n\nThe Family Law Educ
 ation Program is now offered as a Zoom class for parents in Deschutes Coun
 ty experiencing family restructuring such as a separation or divorce.
X-WR-RELCALID:66b1a0866cdccc580e550ed2dade939d
X-WR-TIMEZONE:America/Los_Angeles
BEGIN:VTIMEZONE
TZID:America/Los_Angeles
BEGIN:STANDARD
TZNAME:PST
DTSTART:20251102T020000
TZOFFSETFROM:-0700
TZOFFSETTO:-0800
RDATE:20261101T020000
RDATE:20271107T020000
END:STANDARD
BEGIN:DAYLIGHT
TZNAME:PDT
DTSTART:20260308T020000
TZOFFSETFROM:-0800
TZOFFSETTO:-0700
RDATE:20270314T020000
END:DAYLIGHT
END:VTIMEZONE
BEGIN:VEVENT
UID:cb98acf0-a0b4-481f-a42d-d91e77aea683
DTSTAMP:20260422T021810Z
DESCRIPTION:Please note: Classes will be Tuesday evening/Wednesday morning 
 through December and then starting in January they will be Tuesday evening
 /Thursday morning.\n\nThe Family Law Education Program was created to help
  families navigate through restructure and be more prepared to co-parent\,
  so they can better support their children's physical\, social\, emotional
 \, and behavioral well-being. The session will discuss ways to build or ma
 intain a positive relationship with the co-parent and will provide a brief
  overview of the legal process and parenting plan.\n\nThe Family Law Educa
 tion Program is now offered as a Zoom class for parents in Deschutes Count
 y experiencing family restructuring such as a separation or divorce.
DTSTART;TZID=America/Los_Angeles:20260804T173000
DTEND;TZID=America/Los_Angeles:20260804T213000
LOCATION:Held on Zoom
SUMMARY:Family Law Education Program
END:VEVENT
END:VCALENDAR
