BEGIN:VCALENDAR
VERSION:2.0
PRODID:-//frconline.org//NONSGML kigkonsult.se iCalcreator 2.30.10//
CALSCALE:GREGORIAN
METHOD:PUBLISH
UID:cfb2a2b9-ece6-49e1-b12d-d8bd6c1a79bc
X-WR-CALDESC:KEEP is a statewide support program available to Oregon's reso
 urce\, kinship\, adoptive\, and assisted guardian parents raising youth ag
 es 2 and up.
X-WR-RELCALID:270348376bf3d7b5ffc618dd25e7c909
X-WR-TIMEZONE:America/Los_Angeles
BEGIN:VTIMEZONE
TZID:America/Los_Angeles
BEGIN:STANDARD
TZNAME:PST
DTSTART:20251102T020000
TZOFFSETFROM:-0700
TZOFFSETTO:-0800
RDATE:20261101T020000
RDATE:20271107T020000
END:STANDARD
BEGIN:DAYLIGHT
TZNAME:PDT
DTSTART:20260308T020000
TZOFFSETFROM:-0800
TZOFFSETTO:-0700
RDATE:20270314T020000
END:DAYLIGHT
END:VTIMEZONE
BEGIN:VEVENT
UID:0878bfd4-daa3-4e18-918a-9c74a760d2b3
DTSTAMP:20260421T225657Z
DESCRIPTION:KEEP is a statewide support program available to Oregon's resou
 rce\, kinship\, adoptive\, and assisted guardian parents raising youth age
 s 2 and up.
DTSTART;TZID=America/Los_Angeles:20260603T180000
DTEND;TZID=America/Los_Angeles:20260603T193000
LOCATION:Held virtually on Zoom
SUMMARY:KEEP Standard
END:VEVENT
END:VCALENDAR
