BEGIN:VCALENDAR
VERSION:2.0
PRODID:-//frconline.org//NONSGML kigkonsult.se iCalcreator 2.30.10//
CALSCALE:GREGORIAN
METHOD:PUBLISH
UID:61bdac19-c655-404f-a0b9-1d7f2e6a4ace
X-WR-CALDESC:KEEP is a statewide support program available to Oregon's reso
 urce\, kinship\, adoptive\, and assisted guardian parents raising youth ag
 es 2 and up.
X-WR-RELCALID:26ac7cc6df4ba54f4357d1aacf231339
X-WR-TIMEZONE:America/Los_Angeles
BEGIN:VTIMEZONE
TZID:America/Los_Angeles
BEGIN:STANDARD
TZNAME:PST
DTSTART:20251102T020000
TZOFFSETFROM:-0700
TZOFFSETTO:-0800
RDATE:20261101T020000
RDATE:20271107T020000
END:STANDARD
BEGIN:DAYLIGHT
TZNAME:PDT
DTSTART:20260308T020000
TZOFFSETFROM:-0800
TZOFFSETTO:-0700
RDATE:20270314T020000
END:DAYLIGHT
END:VTIMEZONE
BEGIN:VEVENT
UID:c0c3c911-ea44-4672-91a4-04f278041d65
DTSTAMP:20260421T212054Z
DESCRIPTION:KEEP is a statewide support program available to Oregon's resou
 rce\, kinship\, adoptive\, and assisted guardian parents raising youth age
 s 2 and up.
DTSTART;TZID=America/Los_Angeles:20260527T180000
DTEND;TZID=America/Los_Angeles:20260527T193000
LOCATION:Held virtually on Zoom
SUMMARY:KEEP Standard
END:VEVENT
END:VCALENDAR
