BEGIN:VCALENDAR
VERSION:2.0
PRODID:-//frconline.org//NONSGML kigkonsult.se iCalcreator 2.30.10//
CALSCALE:GREGORIAN
METHOD:PUBLISH
UID:9f485717-82b3-42a2-8454-780c8c65b092
X-WR-CALDESC:Come prepared to dance and be silly. For parents with children
  0-4 years old.
X-WR-RELCALID:65b90f918a511207c6257c9bc57c3002
X-WR-TIMEZONE:America/Los_Angeles
BEGIN:VTIMEZONE
TZID:America/Los_Angeles
BEGIN:STANDARD
TZNAME:PST
DTSTART:20251102T020000
TZOFFSETFROM:-0700
TZOFFSETTO:-0800
RDATE:20261101T020000
RDATE:20271107T020000
END:STANDARD
BEGIN:DAYLIGHT
TZNAME:PDT
DTSTART:20260308T020000
TZOFFSETFROM:-0800
TZOFFSETTO:-0700
RDATE:20270314T020000
END:DAYLIGHT
END:VTIMEZONE
BEGIN:VEVENT
UID:ca1f9411-dca6-4c12-9fe1-a735a8cbaba2
DTSTAMP:20260421T212903Z
DESCRIPTION:Come prepared to dance and be silly. For parents with children 
 0-4 years old.
DTSTART;TZID=America/Los_Angeles:20260508T100000
DTEND;TZID=America/Los_Angeles:20260508T110000
LOCATION:Family Resource Center\, 2500 NE Twin Knolls Dr\, Bend\, OR 97701 
 US
SUMMARY:Zumbini Bend
END:VEVENT
END:VCALENDAR
