BEGIN:VCALENDAR
VERSION:2.0
PRODID:-//frconline.org//NONSGML kigkonsult.se iCalcreator 2.30.10//
CALSCALE:GREGORIAN
METHOD:PUBLISH
UID:3a2f58ae-4d38-4dca-b26b-aea8b250372b
X-WR-CALDESC:KEEP is a statewide support program available to Oregon's reso
 urce\, kinship\, adoptive\, and assisted guardian parents raising youth ag
 es 2 and up.
X-WR-RELCALID:07ba6f24837932623b7f610ed41fd088
X-WR-TIMEZONE:America/Los_Angeles
BEGIN:VTIMEZONE
TZID:America/Los_Angeles
BEGIN:STANDARD
TZNAME:PST
DTSTART:20251102T020000
TZOFFSETFROM:-0700
TZOFFSETTO:-0800
RDATE:20261101T020000
END:STANDARD
BEGIN:DAYLIGHT
TZNAME:PDT
DTSTART:20260308T020000
TZOFFSETFROM:-0800
TZOFFSETTO:-0700
RDATE:20270314T020000
END:DAYLIGHT
END:VTIMEZONE
BEGIN:VEVENT
UID:44a6789a-9814-4bf3-adfb-0b0143779d76
DTSTAMP:20260421T201056Z
DESCRIPTION:KEEP is a statewide support program available to Oregon's resou
 rce\, kinship\, adoptive\, and assisted guardian parents raising youth age
 s 2 and up.
DTSTART;TZID=America/Los_Angeles:20260429T180000
DTEND;TZID=America/Los_Angeles:20260429T193000
LOCATION:Held virtually on Zoom
SUMMARY:KEEP Standard
END:VEVENT
END:VCALENDAR
