BEGIN:VCALENDAR
VERSION:2.0
PRODID:-//frconline.org//NONSGML kigkonsult.se iCalcreator 2.30.10//
CALSCALE:GREGORIAN
METHOD:PUBLISH
UID:8045291b-338d-4b01-b4d7-63aa1b8e61d1
X-WR-CALDESC:KEEP is a statewide support program available to Oregon's reso
 urce\, kinship\, adoptive\, and assisted guardian parents raising youth ag
 es 2 and up.
X-WR-RELCALID:a985f595be8d8d9a67d0765cfd8b08f3
X-WR-TIMEZONE:America/Los_Angeles
BEGIN:VTIMEZONE
TZID:America/Los_Angeles
BEGIN:STANDARD
TZNAME:PST
DTSTART:20251102T020000
TZOFFSETFROM:-0700
TZOFFSETTO:-0800
RDATE:20261101T020000
END:STANDARD
BEGIN:DAYLIGHT
TZNAME:PDT
DTSTART:20260308T020000
TZOFFSETFROM:-0800
TZOFFSETTO:-0700
RDATE:20270314T020000
END:DAYLIGHT
END:VTIMEZONE
BEGIN:VEVENT
UID:d2b1066b-50ba-4698-b3ca-e75779afeaa2
DTSTAMP:20260421T194848Z
DESCRIPTION:KEEP is a statewide support program available to Oregon's resou
 rce\, kinship\, adoptive\, and assisted guardian parents raising youth age
 s 2 and up.
DTSTART;TZID=America/Los_Angeles:20260408T180000
DTEND;TZID=America/Los_Angeles:20260408T193000
LOCATION:Held virtually on Zoom
SUMMARY:KEEP Standard
END:VEVENT
END:VCALENDAR
