BEGIN:VCALENDAR
VERSION:2.0
PRODID:-//frconline.org//NONSGML kigkonsult.se iCalcreator 2.30.10//
CALSCALE:GREGORIAN
METHOD:PUBLISH
UID:b2f16f7b-2c2a-469a-8d13-7cfd4daac794
X-WR-CALDESC:This is fun interactive program that uses child-centered play 
 to develop positive relationships.
X-WR-RELCALID:171c65dff1d878f08f895f87f934b870
X-WR-TIMEZONE:America/Los_Angeles
BEGIN:VTIMEZONE
TZID:America/Los_Angeles
BEGIN:STANDARD
TZNAME:PST
DTSTART:20251102T020000
TZOFFSETFROM:-0700
TZOFFSETTO:-0800
RDATE:20261101T020000
END:STANDARD
BEGIN:DAYLIGHT
TZNAME:PDT
DTSTART:20260308T020000
TZOFFSETFROM:-0800
TZOFFSETTO:-0700
RDATE:20270314T020000
END:DAYLIGHT
END:VTIMEZONE
BEGIN:VEVENT
UID:59c42565-d174-40d1-a52a-1f6063ce2cb2
DTSTAMP:20260421T195043Z
DESCRIPTION:This is fun interactive program that uses child-centered play t
 o develop positive relationships.
DTSTART;TZID=America/Los_Angeles:20260406T173000
DTEND;TZID=America/Los_Angeles:20260406T193000
LOCATION:Family Resource Center\, 2500 NE Twin Knolls Dr\, Bend\, OR 97701 
 US
SUMMARY:The Incredible Years
END:VEVENT
END:VCALENDAR
