BEGIN:VCALENDAR
VERSION:2.0
PRODID:-//frconline.org//NONSGML kigkonsult.se iCalcreator 2.30.10//
CALSCALE:GREGORIAN
METHOD:PUBLISH
UID:b9f0038d-e127-4c41-9cc1-b1902c2a9475
X-WR-CALDESC:Descubra formas de gestionar el estrés. Aprenda sobre el desar
 rollo infantil. Construya su conjunto de herramientas para la disciplina p
 ositiva.
X-WR-RELCALID:0951d0d2fec7484ef086ecec41793457
X-WR-TIMEZONE:America/Los_Angeles
BEGIN:VTIMEZONE
TZID:America/Los_Angeles
BEGIN:STANDARD
TZNAME:PST
DTSTART:20251102T020000
TZOFFSETFROM:-0700
TZOFFSETTO:-0800
RDATE:20261101T020000
END:STANDARD
BEGIN:DAYLIGHT
TZNAME:PDT
DTSTART:20260308T020000
TZOFFSETFROM:-0800
TZOFFSETTO:-0700
RDATE:20270314T020000
END:DAYLIGHT
END:VTIMEZONE
BEGIN:VEVENT
UID:8bebebc2-2a30-4393-921b-fb000734d48f
DTSTAMP:20260421T213611Z
DESCRIPTION:Descubra formas de gestionar el estrés. Aprenda sobre el desarr
 ollo infantil. Construya su conjunto de herramientas para la disciplina po
 sitiva.
DTSTART;TZID=America/Los_Angeles:20260323T173000
DTEND;TZID=America/Los_Angeles:20260323T193000
LOCATION:Held on Zoom -Se llevará a cabo virtualmente a través de zoom
SUMMARY:Haga de la Paternidad un Placer
END:VEVENT
END:VCALENDAR
