BEGIN:VCALENDAR
VERSION:2.0
PRODID:-//frconline.org//NONSGML kigkonsult.se iCalcreator 2.30.10//
CALSCALE:GREGORIAN
METHOD:PUBLISH
UID:63307253-9937-4968-9b1b-f941b4d80c3a
X-WR-CALDESC:Descubra formas de gestionar el estrés. Aprenda sobre el desar
 rollo infantil. Construya su conjunto de herramientas para la disciplina p
 ositiva.
X-WR-RELCALID:1028bbb43d4a34342860531215986eb4
X-WR-TIMEZONE:America/Los_Angeles
BEGIN:VTIMEZONE
TZID:America/Los_Angeles
BEGIN:STANDARD
TZNAME:PST
DTSTART:20251102T020000
TZOFFSETFROM:-0700
TZOFFSETTO:-0800
RDATE:20261101T020000
END:STANDARD
BEGIN:DAYLIGHT
TZNAME:PDT
DTSTART:20260308T020000
TZOFFSETFROM:-0800
TZOFFSETTO:-0700
RDATE:20270314T020000
END:DAYLIGHT
END:VTIMEZONE
BEGIN:VEVENT
UID:7f1a9a5f-2bfe-47dc-8879-b917b122da30
DTSTAMP:20260421T213610Z
DESCRIPTION:Descubra formas de gestionar el estrés. Aprenda sobre el desarr
 ollo infantil. Construya su conjunto de herramientas para la disciplina po
 sitiva.
DTSTART;TZID=America/Los_Angeles:20260316T173000
DTEND;TZID=America/Los_Angeles:20260316T193000
LOCATION:Held on Zoom -Se llevará a cabo virtualmente a través de zoom
SUMMARY:Haga de la Paternidad un Placer
END:VEVENT
END:VCALENDAR
