BEGIN:VCALENDAR
VERSION:2.0
PRODID:-//frconline.org//NONSGML kigkonsult.se iCalcreator 2.30.10//
CALSCALE:GREGORIAN
METHOD:PUBLISH
UID:60ab82d9-d28d-49df-9b59-a646e337c40a
X-WR-CALDESC:For parents of children birth to 4 years old. Come prepared to
  dance and be silly in this fun\, free music and movement class.
X-WR-RELCALID:a5d16c6d13a1b46d9b6498073d24e4b4
X-WR-TIMEZONE:America/Los_Angeles
BEGIN:VTIMEZONE
TZID:America/Los_Angeles
BEGIN:STANDARD
TZNAME:PST
DTSTART:20251102T020000
TZOFFSETFROM:-0700
TZOFFSETTO:-0800
RDATE:20261101T020000
END:STANDARD
BEGIN:DAYLIGHT
TZNAME:PDT
DTSTART:20260308T020000
TZOFFSETFROM:-0800
TZOFFSETTO:-0700
RDATE:20270314T020000
END:DAYLIGHT
END:VTIMEZONE
BEGIN:VEVENT
UID:84a950d0-7d82-4d9b-81e4-a1fe6a603165
DTSTAMP:20260421T213249Z
DESCRIPTION:For parents of children birth to 4 years old. Come prepared to 
 dance and be silly in this fun\, free music and movement class.
DTSTART;TZID=America/Los_Angeles:20260311T100000
DTEND;TZID=America/Los_Angeles:20260311T110000
LOCATION:Redmond Library \, 827 SW Deschutes Ave\, Redmond\, OR 97756 US
SUMMARY:Zumbini Redmond
END:VEVENT
END:VCALENDAR
