BEGIN:VCALENDAR
VERSION:2.0
PRODID:-//frconline.org//NONSGML kigkonsult.se iCalcreator 2.30.10//
CALSCALE:GREGORIAN
METHOD:PUBLISH
UID:55bc03d9-b5af-4024-938d-52a031067ca7
X-WR-CALDESC:Descubra formas de gestionar el estrés. Aprenda sobre el desar
 rollo infantil. Construya su conjunto de herramientas para la disciplina p
 ositiva.
X-WR-RELCALID:27c8a2e3b8f593ac45fcb37ebf593bb3
X-WR-TIMEZONE:America/Los_Angeles
BEGIN:VTIMEZONE
TZID:America/Los_Angeles
BEGIN:STANDARD
TZNAME:PST
DTSTART:20251102T020000
TZOFFSETFROM:-0700
TZOFFSETTO:-0800
RDATE:20261101T020000
END:STANDARD
BEGIN:DAYLIGHT
TZNAME:PDT
DTSTART:20250309T020000
TZOFFSETFROM:-0800
TZOFFSETTO:-0700
RDATE:20260308T020000
RDATE:20270314T020000
END:DAYLIGHT
END:VTIMEZONE
BEGIN:VEVENT
UID:708e2598-8eab-42c1-b758-a783d9d5d4b6
DTSTAMP:20260421T213605Z
DESCRIPTION:Descubra formas de gestionar el estrés. Aprenda sobre el desarr
 ollo infantil. Construya su conjunto de herramientas para la disciplina po
 sitiva.
DTSTART;TZID=America/Los_Angeles:20260309T173000
DTEND;TZID=America/Los_Angeles:20260309T193000
LOCATION:Held on Zoom -Se llevará a cabo virtualmente a través de zoom
SUMMARY:Haga de la Paternidad un Placer
END:VEVENT
END:VCALENDAR
