BEGIN:VCALENDAR
VERSION:2.0
PRODID:-//frconline.org//NONSGML kigkonsult.se iCalcreator 2.30.10//
CALSCALE:GREGORIAN
METHOD:PUBLISH
UID:d7225410-4dd3-4131-9255-550ef4e19d7a
X-WR-CALDESC:For foster parents of children between the ages of 4-12 years 
 old.\n \nKEEP foster parent support groups provide foster parents a welcom
 e place to share experiences\, get tips and strategies\, and most importan
 tly\, the support that is critical in this frequently stressful parenting 
 role.\n\nEarn training credits & receive a $25 weekly stipend!
X-WR-RELCALID:393d444e2aeae9826364a4c3db03d9a5
X-WR-TIMEZONE:America/Los_Angeles
BEGIN:VTIMEZONE
TZID:America/Los_Angeles
BEGIN:STANDARD
TZNAME:PST
DTSTART:20251102T020000
TZOFFSETFROM:-0700
TZOFFSETTO:-0800
RDATE:20261101T020000
END:STANDARD
BEGIN:DAYLIGHT
TZNAME:PDT
DTSTART:20250309T020000
TZOFFSETFROM:-0800
TZOFFSETTO:-0700
RDATE:20260308T020000
RDATE:20270314T020000
END:DAYLIGHT
END:VTIMEZONE
BEGIN:VEVENT
UID:628e0bac-ddd9-4a99-8abf-f9dd1d777032
DTSTAMP:20260421T213326Z
DESCRIPTION:For foster parents of children between the ages of 4-12 years o
 ld.\n \nKEEP foster parent support groups provide foster parents a welcome
  place to share experiences\, get tips and strategies\, and most important
 ly\, the support that is critical in this frequently stressful parenting r
 ole.\n\nEarn training credits & receive a $25 weekly stipend!
DTSTART;TZID=America/Los_Angeles:20260309T100000
DTEND;TZID=America/Los_Angeles:20260309T113000
LOCATION:Held virtually on Zoom
SUMMARY:KEEP Standard - Foster Parent Support Group
END:VEVENT
END:VCALENDAR
