BEGIN:VCALENDAR
VERSION:2.0
PRODID:-//frconline.org//NONSGML kigkonsult.se iCalcreator 2.30.10//
CALSCALE:GREGORIAN
METHOD:PUBLISH
UID:21b46220-9ab3-46aa-b1e8-1320e3b876f7
X-WR-CALDESC:For parents of children birth to 4 years old. Come prepared to
  dance and be silly in this fun\, free music and movement class.
X-WR-RELCALID:2b92ed141cab9715bf4f8e6a07a42306
X-WR-TIMEZONE:America/Los_Angeles
BEGIN:VTIMEZONE
TZID:America/Los_Angeles
BEGIN:STANDARD
TZNAME:PST
DTSTART:20251102T020000
TZOFFSETFROM:-0700
TZOFFSETTO:-0800
RDATE:20261101T020000
END:STANDARD
BEGIN:DAYLIGHT
TZNAME:PDT
DTSTART:20250309T020000
TZOFFSETFROM:-0800
TZOFFSETTO:-0700
RDATE:20260308T020000
RDATE:20270314T020000
END:DAYLIGHT
END:VTIMEZONE
BEGIN:VEVENT
UID:db9ecef6-581d-4d15-a713-dcac1d050012
DTSTAMP:20260421T231709Z
DESCRIPTION:For parents of children birth to 4 years old. Come prepared to 
 dance and be silly in this fun\, free music and movement class.
DTSTART;TZID=America/Los_Angeles:20260218T100000
DTEND;TZID=America/Los_Angeles:20260218T110000
LOCATION:Redmond Library \, 827 SW Deschutes Ave\, Redmond\, OR 97756 US
SUMMARY:Zumbini Redmond
END:VEVENT
END:VCALENDAR
