BEGIN:VCALENDAR
VERSION:2.0
PRODID:-//frconline.org//NONSGML kigkonsult.se iCalcreator 2.30.10//
CALSCALE:GREGORIAN
METHOD:PUBLISH
UID:8fe9d5f6-2da0-40c1-b9fb-c57596a54a7e
X-WR-CALDESC:Please join our safe space to share and support each other\, f
 ind connection\, and share experiences.\n\nThis support group is open to a
 ny caregiver or parent to a neurodivergent child(ren) 0-18. \n\n
X-WR-RELCALID:0d133a0fbf50d88f39d2e4a1ce9fbd2f
X-WR-TIMEZONE:America/Los_Angeles
BEGIN:VTIMEZONE
TZID:America/Los_Angeles
BEGIN:STANDARD
TZNAME:PST
DTSTART:20251102T020000
TZOFFSETFROM:-0700
TZOFFSETTO:-0800
RDATE:20261101T020000
END:STANDARD
BEGIN:DAYLIGHT
TZNAME:PDT
DTSTART:20250309T020000
TZOFFSETFROM:-0800
TZOFFSETTO:-0700
RDATE:20260308T020000
RDATE:20270314T020000
END:DAYLIGHT
END:VTIMEZONE
BEGIN:VEVENT
UID:dd15e3b4-2caa-43b6-848f-819900707fa6
DTSTAMP:20260421T225903Z
DESCRIPTION:Please join our safe space to share and support each other\, fi
 nd connection\, and share experiences.\n\nThis support group is open to an
 y caregiver or parent to a neurodivergent child(ren) 0-18. \n\n
DTSTART;TZID=America/Los_Angeles:20260217T173000
DTEND;TZID=America/Los_Angeles:20260217T190000
LOCATION:Family Resource Center\, 2500 NE Twin Knolls Dr\, Bend \, OR 97701
  US
SUMMARY:Parent2Parent
END:VEVENT
END:VCALENDAR
