BEGIN:VCALENDAR
VERSION:2.0
PRODID:-//frconline.org//NONSGML kigkonsult.se iCalcreator 2.30.10//
CALSCALE:GREGORIAN
METHOD:PUBLISH
UID:4c80fdad-24cb-4a8e-8ea3-f4d8f15106b9
X-WR-CALDESC:Come prepared to dance and be silly. For parents with children
  0-4 years old.
X-WR-RELCALID:13752cdbf0097786732eba4cd0019a27
X-WR-TIMEZONE:America/Los_Angeles
BEGIN:VTIMEZONE
TZID:America/Los_Angeles
BEGIN:STANDARD
TZNAME:PST
DTSTART:20251102T020000
TZOFFSETFROM:-0700
TZOFFSETTO:-0800
RDATE:20261101T020000
END:STANDARD
BEGIN:DAYLIGHT
TZNAME:PDT
DTSTART:20250309T020000
TZOFFSETFROM:-0800
TZOFFSETTO:-0700
RDATE:20260308T020000
RDATE:20270314T020000
END:DAYLIGHT
END:VTIMEZONE
BEGIN:VEVENT
UID:e6f93240-22a7-4dc9-bf6e-675479e4fecf
DTSTAMP:20260421T231115Z
DESCRIPTION:Come prepared to dance and be silly. For parents with children 
 0-4 years old.
DTSTART;TZID=America/Los_Angeles:20260206T100000
DTEND;TZID=America/Los_Angeles:20260206T110000
LOCATION:2500 NE Twin Knolls Dr\, 2500 NE Twin Knolls Dr\, Bend\, OR 97701 
 US
SUMMARY:Zumbini Bend
END:VEVENT
END:VCALENDAR
