BEGIN:VCALENDAR
VERSION:2.0
PRODID:-//frconline.org//NONSGML kigkonsult.se iCalcreator 2.30.10//
CALSCALE:GREGORIAN
METHOD:PUBLISH
UID:ae344eff-180e-47f6-833e-4660f5fe6b13
X-WR-CALDESC:Join us for a fun journaling workshop where parents and teens 
 make their own journals to take home\, swap stories\, and connect in a cre
 ative\, \nlow-pressure way.
X-WR-RELCALID:5da075038e887d22fdeeb66ddf12e80d
X-WR-TIMEZONE:America/Los_Angeles
BEGIN:VTIMEZONE
TZID:America/Los_Angeles
BEGIN:STANDARD
TZNAME:PST
DTSTART:20251102T020000
TZOFFSETFROM:-0700
TZOFFSETTO:-0800
RDATE:20261101T020000
END:STANDARD
BEGIN:DAYLIGHT
TZNAME:PDT
DTSTART:20250309T020000
TZOFFSETFROM:-0800
TZOFFSETTO:-0700
RDATE:20260308T020000
RDATE:20270314T020000
END:DAYLIGHT
END:VTIMEZONE
BEGIN:VEVENT
UID:c85a103c-0990-47b8-9e53-d5b33aaf3943
DTSTAMP:20260421T231401Z
DESCRIPTION:Join us for a fun journaling workshop where parents and teens m
 ake their own journals to take home\, swap stories\, and connect in a crea
 tive\, \nlow-pressure way.
DTSTART;TZID=America/Los_Angeles:20260204T173000
DTEND;TZID=America/Los_Angeles:20260204T193000
LOCATION:Crook County Library Broughton Room\, 175 NW Meadow Lakes Dr\, Pri
 neville\, OR 97754 US
SUMMARY:Parent/Teen Journaling Kindness Workshop
END:VEVENT
END:VCALENDAR
