BEGIN:VCALENDAR
VERSION:2.0
PRODID:-//frconline.org//NONSGML kigkonsult.se iCalcreator 2.30.10//
CALSCALE:GREGORIAN
METHOD:PUBLISH
UID:81a7a725-4b61-4c70-915e-660ee3c02bc1
X-WR-CALDESC:Come prepared to dance and be silly. For parents with children
  0-4 years old.
X-WR-RELCALID:a31a2c6bd3d327cafb7e6da9184fae73
X-WR-TIMEZONE:America/Los_Angeles
BEGIN:VTIMEZONE
TZID:America/Los_Angeles
BEGIN:STANDARD
TZNAME:PST
DTSTART:20251102T020000
TZOFFSETFROM:-0700
TZOFFSETTO:-0800
RDATE:20261101T020000
END:STANDARD
BEGIN:DAYLIGHT
TZNAME:PDT
DTSTART:20250309T020000
TZOFFSETFROM:-0800
TZOFFSETTO:-0700
RDATE:20260308T020000
RDATE:20270314T020000
END:DAYLIGHT
END:VTIMEZONE
BEGIN:VEVENT
UID:c752ff6e-5f70-4fdc-9d0b-9b4e4e316b23
DTSTAMP:20260422T004116Z
DESCRIPTION:Come prepared to dance and be silly. For parents with children 
 0-4 years old.
DTSTART;TZID=America/Los_Angeles:20260130T100000
DTEND;TZID=America/Los_Angeles:20260130T110000
LOCATION:2500 NE Twin Knolls Dr\, 2500 NE Twin Knolls Dr\, Bend\, OR 97701 
 US
SUMMARY:Zumbini Bend
END:VEVENT
END:VCALENDAR
