BEGIN:VCALENDAR
VERSION:2.0
PRODID:-//frconline.org//NONSGML kigkonsult.se iCalcreator 2.30.10//
CALSCALE:GREGORIAN
METHOD:PUBLISH
UID:6830151e-d739-4d1b-ba84-373060780235
X-WR-CALDESC:Come prepared to dance and be silly. For parents with children
  0-4 years old.
X-WR-RELCALID:8edba6e86c40ea073e4873ea618a0d87
X-WR-TIMEZONE:America/Los_Angeles
BEGIN:VTIMEZONE
TZID:America/Los_Angeles
BEGIN:STANDARD
TZNAME:PST
DTSTART:20251102T020000
TZOFFSETFROM:-0700
TZOFFSETTO:-0800
RDATE:20261101T020000
END:STANDARD
BEGIN:DAYLIGHT
TZNAME:PDT
DTSTART:20250309T020000
TZOFFSETFROM:-0800
TZOFFSETTO:-0700
RDATE:20260308T020000
RDATE:20270314T020000
END:DAYLIGHT
END:VTIMEZONE
BEGIN:VEVENT
UID:2cf85848-1d23-4176-84a9-ed7cef916688
DTSTAMP:20260422T003959Z
DESCRIPTION:Come prepared to dance and be silly. For parents with children 
 0-4 years old.
DTSTART;TZID=America/Los_Angeles:20260116T100000
DTEND;TZID=America/Los_Angeles:20260116T110000
LOCATION:2500 NE Twin Knolls Dr\, 2500 NE Twin Knolls Dr\, Bend\, OR 97701 
 US
SUMMARY:Zumbini Bend
END:VEVENT
END:VCALENDAR
