BEGIN:VCALENDAR
VERSION:2.0
PRODID:-//frconline.org//NONSGML kigkonsult.se iCalcreator 2.30.10//
CALSCALE:GREGORIAN
METHOD:PUBLISH
UID:40c54a50-fd9b-492c-861c-2ec6c8889ba3
X-WR-CALDESC:Discover ways to manage stress. \nLearn about child developmen
 t. \nBuild your toolkit for positive discipline.\n
X-WR-RELCALID:70241b0446589b3c7ac8897d324e81a7
X-WR-TIMEZONE:America/Los_Angeles
BEGIN:VTIMEZONE
TZID:America/Los_Angeles
BEGIN:STANDARD
TZNAME:PST
DTSTART:20251102T020000
TZOFFSETFROM:-0700
TZOFFSETTO:-0800
RDATE:20261101T020000
END:STANDARD
BEGIN:DAYLIGHT
TZNAME:PDT
DTSTART:20250309T020000
TZOFFSETFROM:-0800
TZOFFSETTO:-0700
RDATE:20260308T020000
RDATE:20270314T020000
END:DAYLIGHT
END:VTIMEZONE
BEGIN:VEVENT
UID:7445ea45-49ff-405b-a0ec-778a007ebf01
DTSTAMP:20260422T004122Z
DESCRIPTION:Discover ways to manage stress. \nLearn about child development
 . \nBuild your toolkit for positive discipline.\n
DTSTART;TZID=America/Los_Angeles:20260105T173000
DTEND;TZID=America/Los_Angeles:20260105T193000
LOCATION:Family Resource Center\, 2500 NE Twin Knolls Dr\, Bend \, OR 97701
  US
SUMMARY:Make Parenting a Pleasure
END:VEVENT
END:VCALENDAR
