BEGIN:VCALENDAR
VERSION:2.0
PRODID:-//frconline.org//NONSGML kigkonsult.se iCalcreator 2.30.10//
CALSCALE:GREGORIAN
METHOD:PUBLISH
UID:3905c935-a9fd-4181-9f70-9e35c087c196
X-WR-CALDESC:Mejorar la comunicación y hablar sobre tecnología y adolescent
 es\, desarrollo cerebral y toma de decisiones.
X-WR-RELCALID:8238b90ecf1d04c7b4beaf3a5adf1e5d
X-WR-TIMEZONE:America/Los_Angeles
BEGIN:VTIMEZONE
TZID:America/Los_Angeles
BEGIN:STANDARD
TZNAME:PST
DTSTART:20251102T020000
TZOFFSETFROM:-0700
TZOFFSETTO:-0800
RDATE:20261101T020000
END:STANDARD
BEGIN:DAYLIGHT
TZNAME:PDT
DTSTART:20250309T020000
TZOFFSETFROM:-0800
TZOFFSETTO:-0700
RDATE:20260308T020000
RDATE:20270314T020000
END:DAYLIGHT
END:VTIMEZONE
BEGIN:VEVENT
UID:7d003e79-bcd2-4d19-ba3b-2c139ac1bada
DTSTAMP:20260422T022151Z
DESCRIPTION:Mejorar la comunicación y hablar sobre tecnología y adolescente
 s\, desarrollo cerebral y toma de decisiones.
DTSTART;TZID=America/Los_Angeles:20251215T173000
DTEND;TZID=America/Los_Angeles:20251215T193000
LOCATION:Held virtually on Zoom
SUMMARY:Crianza Activa De Adolescentes
END:VEVENT
END:VCALENDAR
