BEGIN:VCALENDAR
VERSION:2.0
PRODID:-//frconline.org//NONSGML kigkonsult.se iCalcreator 2.30.10//
CALSCALE:GREGORIAN
METHOD:PUBLISH
UID:80a63297-89d0-457a-9fc3-57d124638f30
X-WR-CALDESC:For foster parents of children between the ages of 4-12 years 
 old.\n \nKEEP foster parent support groups provide foster parents a welcom
 e place to share experiences\, get tips and strategies\, and most importan
 tly\, the support that is critical in this frequently stressful parenting 
 role.\n\nEarn training credits & receive a $25 weekly stipend!
X-WR-RELCALID:8f96887b0bbf9fbbf466b3bb8d547c16
X-WR-TIMEZONE:America/Los_Angeles
BEGIN:VTIMEZONE
TZID:America/Los_Angeles
BEGIN:STANDARD
TZNAME:PST
DTSTART:20251102T020000
TZOFFSETFROM:-0700
TZOFFSETTO:-0800
RDATE:20261101T020000
END:STANDARD
BEGIN:DAYLIGHT
TZNAME:PDT
DTSTART:20250309T020000
TZOFFSETFROM:-0800
TZOFFSETTO:-0700
RDATE:20260308T020000
RDATE:20270314T020000
END:DAYLIGHT
END:VTIMEZONE
BEGIN:VEVENT
UID:83c67735-3560-4247-8a32-f8d44d970103
DTSTAMP:20260422T022152Z
DESCRIPTION:For foster parents of children between the ages of 4-12 years o
 ld.\n \nKEEP foster parent support groups provide foster parents a welcome
  place to share experiences\, get tips and strategies\, and most important
 ly\, the support that is critical in this frequently stressful parenting r
 ole.\n\nEarn training credits & receive a $25 weekly stipend!
DTSTART;TZID=America/Los_Angeles:20251215T100000
DTEND;TZID=America/Los_Angeles:20251215T113000
LOCATION:Held virtually on Zoom
SUMMARY:KEEP Standard - Foster Parent Support Group
END:VEVENT
END:VCALENDAR
