BEGIN:VCALENDAR
VERSION:2.0
PRODID:-//frconline.org//NONSGML kigkonsult.se iCalcreator 2.30.10//
CALSCALE:GREGORIAN
METHOD:PUBLISH
UID:aa9eca61-137c-4cb9-9dac-2b37ed400a8a
X-WR-CALDESC:For parents of children birth to 4 years old. Come prepared to
  dance and be silly in this fun\, free music and movement class.
X-WR-RELCALID:b270c080ee95b1d360cc0b7f3825693b
X-WR-TIMEZONE:America/Los_Angeles
BEGIN:VTIMEZONE
TZID:America/Los_Angeles
BEGIN:STANDARD
TZNAME:PST
DTSTART:20251102T020000
TZOFFSETFROM:-0700
TZOFFSETTO:-0800
RDATE:20261101T020000
END:STANDARD
BEGIN:DAYLIGHT
TZNAME:PDT
DTSTART:20250309T020000
TZOFFSETFROM:-0800
TZOFFSETTO:-0700
RDATE:20260308T020000
RDATE:20270314T020000
END:DAYLIGHT
END:VTIMEZONE
BEGIN:VEVENT
UID:17f6f557-e419-4a95-84bf-4fbcb90a2b96
DTSTAMP:20260422T022055Z
DESCRIPTION:For parents of children birth to 4 years old. Come prepared to 
 dance and be silly in this fun\, free music and movement class.
DTSTART;TZID=America/Los_Angeles:20251210T100000
DTEND;TZID=America/Los_Angeles:20251210T110000
LOCATION:2500 NE Twin Knolls Dr\, 827 SW Deschutes Ave\, Redmond\, OR 97756
  US
SUMMARY:Zumbini Redmond
END:VEVENT
END:VCALENDAR
