BEGIN:VCALENDAR
VERSION:2.0
PRODID:-//frconline.org//NONSGML kigkonsult.se iCalcreator 2.30.10//
CALSCALE:GREGORIAN
METHOD:PUBLISH
UID:f351dd9b-d284-4d41-9b87-a8d8d7542a39
X-WR-CALDESC:Discover ways to manage stress. \nLearn about child developmen
 t. \nBuild your toolkit for positive discipline.\n
X-WR-RELCALID:066f9dbf0e8193825c20c7b5f031a9f7
X-WR-TIMEZONE:America/Los_Angeles
BEGIN:VTIMEZONE
TZID:America/Los_Angeles
BEGIN:STANDARD
TZNAME:PST
DTSTART:20251102T020000
TZOFFSETFROM:-0700
TZOFFSETTO:-0800
RDATE:20261101T020000
END:STANDARD
BEGIN:DAYLIGHT
TZNAME:PDT
DTSTART:20250309T020000
TZOFFSETFROM:-0800
TZOFFSETTO:-0700
RDATE:20260308T020000
RDATE:20270314T020000
END:DAYLIGHT
END:VTIMEZONE
BEGIN:VEVENT
UID:4109a777-5e17-47d3-901e-f17d52b21364
DTSTAMP:20260422T021916Z
DESCRIPTION:Discover ways to manage stress. \nLearn about child development
 . \nBuild your toolkit for positive discipline.\n
DTSTART;TZID=America/Los_Angeles:20251208T173000
DTEND;TZID=America/Los_Angeles:20251208T193000
LOCATION:Family Resource Center\, 2500 NE Twin Knolls Dr\, Bend \, OR 97701
  US
SUMMARY:Make Parenting a Pleasure
END:VEVENT
END:VCALENDAR
