BEGIN:VCALENDAR
VERSION:2.0
PRODID:-//frconline.org//NONSGML kigkonsult.se iCalcreator 2.30.10//
CALSCALE:GREGORIAN
METHOD:PUBLISH
UID:a7247973-a4df-4ddc-8c5e-ac5cc9738d44
X-WR-CALDESC:Mejorar la comunicación y hablar sobre tecnología y adolescent
 es\, desarrollo cerebral y toma de decisiones.
X-WR-RELCALID:784a74aa733c5ee80ede47a5de78f520
X-WR-TIMEZONE:America/Los_Angeles
BEGIN:VTIMEZONE
TZID:America/Los_Angeles
BEGIN:STANDARD
TZNAME:PST
DTSTART:20251102T020000
TZOFFSETFROM:-0700
TZOFFSETTO:-0800
RDATE:20261101T020000
END:STANDARD
BEGIN:DAYLIGHT
TZNAME:PDT
DTSTART:20250309T020000
TZOFFSETFROM:-0800
TZOFFSETTO:-0700
RDATE:20260308T020000
RDATE:20270314T020000
END:DAYLIGHT
END:VTIMEZONE
BEGIN:VEVENT
UID:1b7a8293-ebad-4ecb-9357-ab90e677ec7e
DTSTAMP:20260422T022105Z
DESCRIPTION:Mejorar la comunicación y hablar sobre tecnología y adolescente
 s\, desarrollo cerebral y toma de decisiones.
DTSTART;TZID=America/Los_Angeles:20251208T173000
DTEND;TZID=America/Los_Angeles:20251208T193000
LOCATION:Held virtually on Zoom
SUMMARY:Crianza Activa De Adolescentes
END:VEVENT
END:VCALENDAR
