BEGIN:VCALENDAR
VERSION:2.0
PRODID:-//frconline.org//NONSGML kigkonsult.se iCalcreator 2.30.10//
CALSCALE:GREGORIAN
METHOD:PUBLISH
UID:d803a136-b4f5-4713-9d49-a3ec3ab404d7
X-WR-CALDESC:For parents of children birth to 4 years old. Come prepared to
  dance and be silly in this fun\, free music and movement class.
X-WR-RELCALID:57960258c7eeea43519954897fa509f9
X-WR-TIMEZONE:America/Los_Angeles
BEGIN:VTIMEZONE
TZID:America/Los_Angeles
BEGIN:STANDARD
TZNAME:PST
DTSTART:20251102T020000
TZOFFSETFROM:-0700
TZOFFSETTO:-0800
RDATE:20261101T020000
END:STANDARD
BEGIN:DAYLIGHT
TZNAME:PDT
DTSTART:20250309T020000
TZOFFSETFROM:-0800
TZOFFSETTO:-0700
RDATE:20260308T020000
RDATE:20270314T020000
END:DAYLIGHT
END:VTIMEZONE
BEGIN:VEVENT
UID:3d91700c-e3f0-4beb-854c-0a1ef3092dd2
DTSTAMP:20260422T022055Z
DESCRIPTION:For parents of children birth to 4 years old. Come prepared to 
 dance and be silly in this fun\, free music and movement class.
DTSTART;TZID=America/Los_Angeles:20251203T100000
DTEND;TZID=America/Los_Angeles:20251203T110000
LOCATION:2500 NE Twin Knolls Dr\, 827 SW Deschutes Ave\, Redmond\, OR 97756
  US
SUMMARY:Zumbini Redmond
END:VEVENT
END:VCALENDAR
