BEGIN:VCALENDAR
VERSION:2.0
PRODID:-//frconline.org//NONSGML kigkonsult.se iCalcreator 2.30.10//
CALSCALE:GREGORIAN
METHOD:PUBLISH
UID:d0051a7d-9f1d-4bda-9ff1-41bbcb8c042f
X-WR-CALDESC:Mejorar la comunicación y hablar sobre tecnología y adolescent
 es\, desarrollo cerebral y toma de decisiones.
X-WR-RELCALID:61e540cb7c3c5933340db353f5c735bc
X-WR-TIMEZONE:America/Los_Angeles
BEGIN:VTIMEZONE
TZID:America/Los_Angeles
BEGIN:STANDARD
TZNAME:PST
DTSTART:20251102T020000
TZOFFSETFROM:-0700
TZOFFSETTO:-0800
RDATE:20261101T020000
END:STANDARD
BEGIN:DAYLIGHT
TZNAME:PDT
DTSTART:20250309T020000
TZOFFSETFROM:-0800
TZOFFSETTO:-0700
RDATE:20260308T020000
RDATE:20270314T020000
END:DAYLIGHT
END:VTIMEZONE
BEGIN:VEVENT
UID:2806e1f3-b92e-4a3d-8659-a41519ad360f
DTSTAMP:20260422T022150Z
DESCRIPTION:Mejorar la comunicación y hablar sobre tecnología y adolescente
 s\, desarrollo cerebral y toma de decisiones.
DTSTART;TZID=America/Los_Angeles:20251201T173000
DTEND;TZID=America/Los_Angeles:20251201T193000
LOCATION:Held virtually on Zoom
SUMMARY:Crianza Activa De Adolescentes
END:VEVENT
END:VCALENDAR
