BEGIN:VCALENDAR
VERSION:2.0
PRODID:-//frconline.org//NONSGML kigkonsult.se iCalcreator 2.30.10//
CALSCALE:GREGORIAN
METHOD:PUBLISH
UID:547f9921-7a08-44e7-b690-34211e943715
X-WR-CALDESC:Learn how to help your child feel safe\, regulate their emotio
 ns\, and build their self-esteem.
X-WR-RELCALID:56338a2cb96e875891a4ae7072ba7fee
X-WR-TIMEZONE:America/Los_Angeles
BEGIN:VTIMEZONE
TZID:America/Los_Angeles
BEGIN:STANDARD
TZNAME:PST
DTSTART:20251102T020000
TZOFFSETFROM:-0700
TZOFFSETTO:-0800
RDATE:20261101T020000
END:STANDARD
BEGIN:DAYLIGHT
TZNAME:PDT
DTSTART:20250309T020000
TZOFFSETFROM:-0800
TZOFFSETTO:-0700
RDATE:20260308T020000
RDATE:20270314T020000
END:DAYLIGHT
END:VTIMEZONE
BEGIN:VEVENT
UID:32135a7b-6dae-40b1-af9a-4a469d7665cd
DTSTAMP:20260422T034655Z
DESCRIPTION:Learn how to help your child feel safe\, regulate their emotion
 s\, and build their self-esteem.
DTSTART;TZID=America/Los_Angeles:20251125T100000
DTEND;TZID=America/Los_Angeles:20251125T113000
LOCATION:Held virtually on Zoom.
SUMMARY:Circle of Security (Virtual)
END:VEVENT
END:VCALENDAR
