BEGIN:VCALENDAR
VERSION:2.0
PRODID:-//frconline.org//NONSGML kigkonsult.se iCalcreator 2.30.10//
CALSCALE:GREGORIAN
METHOD:PUBLISH
UID:0bc0a597-8dfe-4e04-a8b5-eb4e7b543765
X-WR-CALDESC:Discover ways to manage stress. \nLearn about child developmen
 t. \nBuild your toolkit for positive discipline.\n
X-WR-RELCALID:f4e14ee07e4ebe2a59d49033c58924dd
X-WR-TIMEZONE:America/Los_Angeles
BEGIN:VTIMEZONE
TZID:America/Los_Angeles
BEGIN:STANDARD
TZNAME:PST
DTSTART:20251102T020000
TZOFFSETFROM:-0700
TZOFFSETTO:-0800
RDATE:20261101T020000
END:STANDARD
BEGIN:DAYLIGHT
TZNAME:PDT
DTSTART:20250309T020000
TZOFFSETFROM:-0800
TZOFFSETTO:-0700
RDATE:20260308T020000
RDATE:20270314T020000
END:DAYLIGHT
END:VTIMEZONE
BEGIN:VEVENT
UID:ce05bf84-a768-4d23-bf0f-cfe4876c0c6d
DTSTAMP:20260422T034647Z
DESCRIPTION:Discover ways to manage stress. \nLearn about child development
 . \nBuild your toolkit for positive discipline.\n
DTSTART;TZID=America/Los_Angeles:20251124T173000
DTEND;TZID=America/Los_Angeles:20251124T193000
LOCATION:Family Resource Center\, 2500 NE Twin Knolls Dr\, Bend \, OR 97701
  US
SUMMARY:Make Parenting a Pleasure
END:VEVENT
END:VCALENDAR
