BEGIN:VCALENDAR
VERSION:2.0
PRODID:-//frconline.org//NONSGML kigkonsult.se iCalcreator 2.30.10//
CALSCALE:GREGORIAN
METHOD:PUBLISH
UID:3f58decf-d619-4d06-94a0-112c323c04e3
X-WR-CALDESC:Come prepared to dance and be silly. For parents with children
  0-4 years old.
X-WR-RELCALID:f293d8ee5e1b531bd6e85ee92f9dab1f
X-WR-TIMEZONE:America/Los_Angeles
BEGIN:VTIMEZONE
TZID:America/Los_Angeles
BEGIN:STANDARD
TZNAME:PST
DTSTART:20251102T020000
TZOFFSETFROM:-0700
TZOFFSETTO:-0800
RDATE:20261101T020000
END:STANDARD
BEGIN:DAYLIGHT
TZNAME:PDT
DTSTART:20250309T020000
TZOFFSETFROM:-0800
TZOFFSETTO:-0700
RDATE:20260308T020000
RDATE:20270314T020000
END:DAYLIGHT
END:VTIMEZONE
BEGIN:VEVENT
UID:c2e6b0af-e491-45a4-b2ff-2919e81bd71d
DTSTAMP:20260422T034321Z
DESCRIPTION:Come prepared to dance and be silly. For parents with children 
 0-4 years old.
DTSTART;TZID=America/Los_Angeles:20251114T100000
DTEND;TZID=America/Los_Angeles:20251114T110000
LOCATION:2500 NE Twin Knolls Dr\, 2500 NE Twin Knolls Dr\, Bend\, OR 97701 
 US
SUMMARY:Zumbini
END:VEVENT
END:VCALENDAR
