BEGIN:VCALENDAR
VERSION:2.0
PRODID:-//frconline.org//NONSGML kigkonsult.se iCalcreator 2.30.10//
CALSCALE:GREGORIAN
METHOD:PUBLISH
UID:f5433469-056a-4b79-ba09-5a67254ed2ac
X-WR-CALDESC:Watch your child light up during an evening of playful creativ
 ity and joyful memories. It's free to participate and all supplies and din
 ner are included. \n
X-WR-RELCALID:44d237da7c002df5930c4dbbaa72823b
X-WR-TIMEZONE:America/Los_Angeles
BEGIN:VTIMEZONE
TZID:America/Los_Angeles
BEGIN:STANDARD
TZNAME:PST
DTSTART:20251102T020000
TZOFFSETFROM:-0700
TZOFFSETTO:-0800
RDATE:20261101T020000
END:STANDARD
BEGIN:DAYLIGHT
TZNAME:PDT
DTSTART:20250309T020000
TZOFFSETFROM:-0800
TZOFFSETTO:-0700
RDATE:20260308T020000
RDATE:20270314T020000
END:DAYLIGHT
END:VTIMEZONE
BEGIN:VEVENT
UID:35c29d6a-80cb-44ca-b9d3-65a7066a3c7a
DTSTAMP:20260422T034429Z
DESCRIPTION:Watch your child light up during an evening of playful creativi
 ty and joyful memories. It's free to participate and all supplies and dinn
 er are included. \n
DTSTART;TZID=America/Los_Angeles:20251113T170000
DTEND;TZID=America/Los_Angeles:20251113T193000
LOCATION:Madras United  Methodist Church \, 49 NE 12th St \, Madras\, OR 97
 741 US
SUMMARY:Parent/Child Paint Night
END:VEVENT
END:VCALENDAR
