BEGIN:VCALENDAR
VERSION:2.0
PRODID:-//frconline.org//NONSGML kigkonsult.se iCalcreator 2.30.10//
CALSCALE:GREGORIAN
METHOD:PUBLISH
UID:a3aacd17-4f15-4bd8-a2d5-04921cf09c34
X-WR-CALDESC:For parents of children birth to 4 years old. Come prepared to
  dance and be silly in this fun\, free music and movement class.
X-WR-RELCALID:8a28d0d2c95e32d1574c37134b303485
X-WR-TIMEZONE:America/Los_Angeles
BEGIN:VTIMEZONE
TZID:America/Los_Angeles
BEGIN:STANDARD
TZNAME:PST
DTSTART:20251102T020000
TZOFFSETFROM:-0700
TZOFFSETTO:-0800
RDATE:20261101T020000
END:STANDARD
BEGIN:DAYLIGHT
TZNAME:PDT
DTSTART:20250309T020000
TZOFFSETFROM:-0800
TZOFFSETTO:-0700
RDATE:20260308T020000
RDATE:20270314T020000
END:DAYLIGHT
END:VTIMEZONE
BEGIN:VEVENT
UID:71895881-612b-42eb-b03e-df3a1d1e8e4f
DTSTAMP:20260422T034839Z
DESCRIPTION:For parents of children birth to 4 years old. Come prepared to 
 dance and be silly in this fun\, free music and movement class.
DTSTART;TZID=America/Los_Angeles:20251112T100000
DTEND;TZID=America/Los_Angeles:20251112T110000
LOCATION:2500 NE Twin Knolls Dr\, 827 SW Deschutes Ave\, Redmond\, OR 97756
  US
SUMMARY:Zumbini Redmond
END:VEVENT
END:VCALENDAR
