BEGIN:VCALENDAR
VERSION:2.0
PRODID:-//frconline.org//NONSGML kigkonsult.se iCalcreator 2.30.10//
CALSCALE:GREGORIAN
METHOD:PUBLISH
UID:9a3a27f0-fa06-416f-8288-fa11f34f9c9e
X-WR-CALDESC:The Family Law Education Program was created to help families 
 navigate through restructure and be more prepared to co-parent\, so they c
 an better support their children's physical\, social\, emotional\, and beh
 avioral well-being. The session will discuss ways to build or maintain a p
 ositive relationship with the co-parent and will provide a brief overview 
 of the legal process and parenting plan.\n\nThe Family Law Education Progr
 am is now offered as a Zoom class for parents in Deschutes County experien
 cing family restructuring such as a separation or divorce.
X-WR-RELCALID:cf9e7df1857e1b869a15506e1c0356c0
X-WR-TIMEZONE:America/Los_Angeles
BEGIN:VTIMEZONE
TZID:America/Los_Angeles
BEGIN:STANDARD
TZNAME:PST
DTSTART:20241103T020000
TZOFFSETFROM:-0700
TZOFFSETTO:-0800
RDATE:20251102T020000
RDATE:20261101T020000
END:STANDARD
BEGIN:DAYLIGHT
TZNAME:PDT
DTSTART:20250309T020000
TZOFFSETFROM:-0800
TZOFFSETTO:-0700
RDATE:20260308T020000
RDATE:20270314T020000
END:DAYLIGHT
END:VTIMEZONE
BEGIN:VEVENT
UID:859c8fca-3eca-4b79-8c1f-51053acaf743
DTSTAMP:20260422T051128Z
DESCRIPTION:The Family Law Education Program was created to help families n
 avigate through restructure and be more prepared to co-parent\, so they ca
 n better support their children's physical\, social\, emotional\, and beha
 vioral well-being. The session will discuss ways to build or maintain a po
 sitive relationship with the co-parent and will provide a brief overview o
 f the legal process and parenting plan.\n\nThe Family Law Education Progra
 m is now offered as a Zoom class for parents in Deschutes County experienc
 ing family restructuring such as a separation or divorce.
DTSTART;TZID=America/Los_Angeles:20251007T173000
DTEND;TZID=America/Los_Angeles:20251007T213000
LOCATION:Held on Zoom
SUMMARY:Family Law Education Program
END:VEVENT
END:VCALENDAR
