BEGIN:VCALENDAR
VERSION:2.0
PRODID:-//frconline.org//NONSGML kigkonsult.se iCalcreator 2.30.10//
CALSCALE:GREGORIAN
METHOD:PUBLISH
UID:b578967d-998f-4967-8e09-854abd2c1e38
X-WR-CALDESC:Join us for a night of connection and art! Enjoy painting\, pi
 zza\, and fun together at our instruction led Paint Night. All supplies ar
 e included. Free to attend. Get signed up today!
X-WR-RELCALID:9d689590ad6c10f21495aee41f7a057c
X-WR-TIMEZONE:America/Los_Angeles
BEGIN:VTIMEZONE
TZID:America/Los_Angeles
BEGIN:STANDARD
TZNAME:PST
DTSTART:20241103T020000
TZOFFSETFROM:-0700
TZOFFSETTO:-0800
RDATE:20251102T020000
RDATE:20261101T020000
END:STANDARD
BEGIN:DAYLIGHT
TZNAME:PDT
DTSTART:20250309T020000
TZOFFSETFROM:-0800
TZOFFSETTO:-0700
RDATE:20260308T020000
RDATE:20270314T020000
END:DAYLIGHT
END:VTIMEZONE
BEGIN:VEVENT
UID:4e6fb9c4-b92e-408e-9536-8039b7b863de
DTSTAMP:20260422T051430Z
DESCRIPTION:Join us for a night of connection and art! Enjoy painting\, piz
 za\, and fun together at our instruction led Paint Night. All supplies are
  included. Free to attend. Get signed up today!
DTSTART;TZID=America/Los_Angeles:20251006T170000
DTEND;TZID=America/Los_Angeles:20251006T193000
LOCATION:Ochoco Gymnasium\, 440 NW Madras Hwy\, Prineville\, OR 97754 US
SUMMARY:Parent and Child Paint Night
END:VEVENT
END:VCALENDAR
