BEGIN:VCALENDAR
VERSION:2.0
PRODID:-//frconline.org//NONSGML kigkonsult.se iCalcreator 2.30.10//
CALSCALE:GREGORIAN
METHOD:PUBLISH
UID:241f8c6a-f4bd-4c28-8d58-473d952ee6a1
X-WR-CALDESC:Increase cooperation\nResist negative peer pressure\nHelp chil
 dren thrive
X-WR-RELCALID:90cd37717884f39137cbe276190b89eb
X-WR-TIMEZONE:America/Los_Angeles
BEGIN:VTIMEZONE
TZID:America/Los_Angeles
BEGIN:STANDARD
TZNAME:PST
DTSTART:20241103T020000
TZOFFSETFROM:-0700
TZOFFSETTO:-0800
RDATE:20251102T020000
RDATE:20261101T020000
END:STANDARD
BEGIN:DAYLIGHT
TZNAME:PDT
DTSTART:20250309T020000
TZOFFSETFROM:-0800
TZOFFSETTO:-0700
RDATE:20260308T020000
END:DAYLIGHT
END:VTIMEZONE
BEGIN:VEVENT
UID:69f49af9-9607-437c-989c-7d79b66fae5a
DTSTAMP:20260422T120743Z
DESCRIPTION:Increase cooperation\nResist negative peer pressure\nHelp child
 ren thrive
DTSTART;TZID=America/Los_Angeles:20250526T180000
DTEND;TZID=America/Los_Angeles:20250526T200000
LOCATION:Held on Zoom
SUMMARY:Active Parenting
END:VEVENT
END:VCALENDAR
