BEGIN:VCALENDAR
VERSION:2.0
PRODID:-//frconline.org//NONSGML kigkonsult.se iCalcreator 2.30.10//
CALSCALE:GREGORIAN
METHOD:PUBLISH
UID:d6bea2c0-dff5-4f05-a6c4-11617ee8e397
X-WR-CALDESC:Zumbini is an early childhood program that uses music and move
 ment to promote cognitive\, social\, fine & gross motor skills\, and emoti
 onal development for children ages 0-4\, all while creating the ultimate b
 onding experience for you! Come experience the fun – no commitment necessa
 ry!
X-WR-RELCALID:fe0fc0c1293dc5f4d4665a8d3ba7dd2d
X-WR-TIMEZONE:America/Los_Angeles
BEGIN:VTIMEZONE
TZID:America/Los_Angeles
BEGIN:STANDARD
TZNAME:PST
DTSTART:20241103T020000
TZOFFSETFROM:-0700
TZOFFSETTO:-0800
RDATE:20251102T020000
RDATE:20261101T020000
END:STANDARD
BEGIN:DAYLIGHT
TZNAME:PDT
DTSTART:20250309T020000
TZOFFSETFROM:-0800
TZOFFSETTO:-0700
RDATE:20260308T020000
END:DAYLIGHT
END:VTIMEZONE
BEGIN:VEVENT
UID:5adc3818-a3ae-435d-84f4-1445e424bc0c
DTSTAMP:20260422T121101Z
DESCRIPTION:Zumbini is an early childhood program that uses music and movem
 ent to promote cognitive\, social\, fine & gross motor skills\, and emotio
 nal development for children ages 0-4\, all while creating the ultimate bo
 nding experience for you! Come experience the fun – no commitment necessar
 y!
DTSTART;TZID=America/Los_Angeles:20250502T100000
DTEND;TZID=America/Los_Angeles:20250502T104500
LOCATION:Family Resource Center\, 2500 NE Twin Knolls Dr\, Bend\, OR 97701 
 US
SUMMARY:Zumbini
END:VEVENT
END:VCALENDAR
