BEGIN:VCALENDAR
VERSION:2.0
PRODID:-//frconline.org//NONSGML kigkonsult.se iCalcreator 2.30.10//
CALSCALE:GREGORIAN
METHOD:PUBLISH
UID:1e1a1387-5e48-40ca-a374-fc113669e0da
X-WR-CALDESC:KEEP support groups provide a welcome place to share experienc
 es\, get tips and strategies\, and most importantly the support that is cr
 itical in this frequently stressful role.
X-WR-RELCALID:928e637caf4d3168d80e2e06c79952f0
X-WR-TIMEZONE:America/Los_Angeles
BEGIN:VTIMEZONE
TZID:America/Los_Angeles
BEGIN:STANDARD
TZNAME:PST
DTSTART:20241103T020000
TZOFFSETFROM:-0700
TZOFFSETTO:-0800
RDATE:20251102T020000
END:STANDARD
BEGIN:DAYLIGHT
TZNAME:PDT
DTSTART:20250309T020000
TZOFFSETFROM:-0800
TZOFFSETTO:-0700
RDATE:20260308T020000
END:DAYLIGHT
END:VTIMEZONE
BEGIN:VEVENT
UID:86e08901-3fd0-495c-a92d-908eadd93607
DTSTAMP:20260422T133443Z
DESCRIPTION:KEEP support groups provide a welcome place to share experience
 s\, get tips and strategies\, and most importantly the support that is cri
 tical in this frequently stressful role.
DTSTART;TZID=America/Los_Angeles:20250422T180000
DTEND;TZID=America/Los_Angeles:20250422T193000
LOCATION:Held on Zoom
SUMMARY:KEEP Toddler
END:VEVENT
END:VCALENDAR
