BEGIN:VCALENDAR
VERSION:2.0
PRODID:-//frconline.org//NONSGML kigkonsult.se iCalcreator 2.30.10//
CALSCALE:GREGORIAN
METHOD:PUBLISH
UID:4c92672e-6906-4e2e-b403-00514d05634e
X-WR-CALDESC:Learn the art of mindful parenting and...\n-Emotional intellig
 ence in parenting\, \n-Mindfulness and self-care \n-Breaking generational 
 patterns and much more.
X-WR-RELCALID:848c1bbec81e31db766ff6167615f5a5
X-WR-TIMEZONE:America/Los_Angeles
BEGIN:VTIMEZONE
TZID:America/Los_Angeles
BEGIN:STANDARD
TZNAME:PST
DTSTART:20241103T020000
TZOFFSETFROM:-0700
TZOFFSETTO:-0800
RDATE:20251102T020000
END:STANDARD
BEGIN:DAYLIGHT
TZNAME:PDT
DTSTART:20250309T020000
TZOFFSETFROM:-0800
TZOFFSETTO:-0700
RDATE:20260308T020000
END:DAYLIGHT
END:VTIMEZONE
BEGIN:VEVENT
UID:23495c46-d411-4cd7-9538-416ed693af91
DTSTAMP:20260422T133257Z
DESCRIPTION:Learn the art of mindful parenting and...\n-Emotional intellige
 nce in parenting\, \n-Mindfulness and self-care \n-Breaking generational p
 atterns and much more.
DTSTART;TZID=America/Los_Angeles:20250403T173000
DTEND;TZID=America/Los_Angeles:20250403T190000
LOCATION:Family Resource Center\, 2500 NE Twin Knolls Dr\, Bend\, OR 97701 
 US
SUMMARY:Rooted In Love
END:VEVENT
END:VCALENDAR
