BEGIN:VCALENDAR
VERSION:2.0
PRODID:-//frconline.org//NONSGML kigkonsult.se iCalcreator 2.30.10//
CALSCALE:GREGORIAN
METHOD:PUBLISH
UID:6d675541-94af-4145-b350-389306f5efb0
X-WR-CALDESC:Join us for a fun evening of painting! Bring a friend and leav
 e with a masterpiece. Proceeds benefit Family Resource Center.
X-WR-RELCALID:b0b575f1542df48198ae19c2deca63a8
X-WR-TIMEZONE:America/Los_Angeles
BEGIN:VTIMEZONE
TZID:America/Los_Angeles
BEGIN:STANDARD
TZNAME:PST
DTSTART:20241103T020000
TZOFFSETFROM:-0700
TZOFFSETTO:-0800
RDATE:20251102T020000
END:STANDARD
BEGIN:DAYLIGHT
TZNAME:PDT
DTSTART:20240310T020000
TZOFFSETFROM:-0800
TZOFFSETTO:-0700
RDATE:20250309T020000
RDATE:20260308T020000
END:DAYLIGHT
END:VTIMEZONE
BEGIN:VEVENT
UID:5a1a6107-cef2-40e2-8d2c-c46fa90402f6
DTSTAMP:20260422T163151Z
DESCRIPTION:Join us for a fun evening of painting! Bring a friend and leave
  with a masterpiece. Proceeds benefit Family Resource Center.
DTSTART;TZID=America/Los_Angeles:20250206T180000
DTEND;TZID=America/Los_Angeles:20250206T200000
LOCATION:Wild Ride Brew\, 332 SW 5th St\, Redmond\, OR 97756 US
SUMMARY:Paint Night at Wild Ride
END:VEVENT
END:VCALENDAR
