BEGIN:VCALENDAR
VERSION:2.0
PRODID:-//frconline.org//NONSGML kigkonsult.se iCalcreator 2.30.10//
CALSCALE:GREGORIAN
METHOD:PUBLISH
UID:33bd1b4e-0a4e-467f-9244-d0933194e34d
X-WR-CALDESC:Learn the art of mindful parenting and...\n-Emotional intellig
 ence in parenting\, \n-Mindfulness and self-care \n-Breaking generational 
 patterns and much more.
X-WR-RELCALID:96721c097a0cc43b849da8892cab5237
X-WR-TIMEZONE:America/Los_Angeles
BEGIN:VTIMEZONE
TZID:America/Los_Angeles
BEGIN:STANDARD
TZNAME:PST
DTSTART:20241103T020000
TZOFFSETFROM:-0700
TZOFFSETTO:-0800
RDATE:20251102T020000
END:STANDARD
BEGIN:DAYLIGHT
TZNAME:PDT
DTSTART:20240310T020000
TZOFFSETFROM:-0800
TZOFFSETTO:-0700
RDATE:20250309T020000
RDATE:20260308T020000
END:DAYLIGHT
END:VTIMEZONE
BEGIN:VEVENT
UID:52e7acf3-89c5-4688-8c11-0ffd2883d952
DTSTAMP:20260422T181059Z
DESCRIPTION:Learn the art of mindful parenting and...\n-Emotional intellige
 nce in parenting\, \n-Mindfulness and self-care \n-Breaking generational p
 atterns and much more.
DTSTART;TZID=America/Los_Angeles:20250109T173000
DTEND;TZID=America/Los_Angeles:20250109T183000
LOCATION:PBCCS\, 13650 SW Hwy 126 \, Powell Butte\, OR 97753 US
SUMMARY:Rooted In Love
END:VEVENT
END:VCALENDAR
