BEGIN:VCALENDAR
VERSION:2.0
PRODID:-//frconline.org//NONSGML kigkonsult.se iCalcreator 2.30.10//
CALSCALE:GREGORIAN
METHOD:PUBLISH
UID:d143e7c2-0b45-431f-876c-6407a2a4ebff
X-WR-CALDESC:Join us as we focus on ourselves and our families through the 
 topics of self-compassion\, self-worth\, and empathy.
X-WR-RELCALID:5432994ad0ff871979d485c8e2bd6183
X-WR-TIMEZONE:America/Los_Angeles
BEGIN:VTIMEZONE
TZID:America/Los_Angeles
BEGIN:STANDARD
TZNAME:PST
DTSTART:20241103T020000
TZOFFSETFROM:-0700
TZOFFSETTO:-0800
RDATE:20251102T020000
END:STANDARD
BEGIN:DAYLIGHT
TZNAME:PDT
DTSTART:20240310T020000
TZOFFSETFROM:-0800
TZOFFSETTO:-0700
RDATE:20250309T020000
RDATE:20260308T020000
END:DAYLIGHT
END:VTIMEZONE
BEGIN:VEVENT
UID:bdd5679f-d1dc-4e49-8f97-91e2a36323a9
DTSTAMP:20260422T191725Z
DESCRIPTION:Join us as we focus on ourselves and our families through the t
 opics of self-compassion\, self-worth\, and empathy.
DTSTART;TZID=America/Los_Angeles:20241211T173000
DTEND;TZID=America/Los_Angeles:20241211T193000
LOCATION:2500 NE Twin Knolls Dr\, Bend\, OR 97701 US
SUMMARY:Connecting with Kindness
END:VEVENT
END:VCALENDAR
