BEGIN:VCALENDAR
VERSION:2.0
PRODID:-//frconline.org//NONSGML kigkonsult.se iCalcreator 2.30.10//
CALSCALE:GREGORIAN
METHOD:PUBLISH
UID:8e342c34-474f-4cfe-b483-1ea719bdf7bb
X-WR-CALDESC:Bring home your very own masterpiece and enjoy hor d'oeuvres\,
  drinks and friends on a fun night out at the Oxford. Proceeds benefit Fam
 ily Resource Center. Seats are limited. Follow the link to register.
X-WR-RELCALID:9a03bae07d1623968dc1374d17483e6b
X-WR-TIMEZONE:America/Los_Angeles
BEGIN:VTIMEZONE
TZID:America/Los_Angeles
BEGIN:STANDARD
TZNAME:PST
DTSTART:20241103T020000
TZOFFSETFROM:-0700
TZOFFSETTO:-0800
RDATE:20251102T020000
END:STANDARD
BEGIN:DAYLIGHT
TZNAME:PDT
DTSTART:20240310T020000
TZOFFSETFROM:-0800
TZOFFSETTO:-0700
RDATE:20250309T020000
RDATE:20260308T020000
END:DAYLIGHT
END:VTIMEZONE
BEGIN:VEVENT
UID:0b227e15-3111-496d-8a0a-240aea1becb2
DTSTAMP:20260422T192136Z
DESCRIPTION:Bring home your very own masterpiece and enjoy hor d'oeuvres\, 
 drinks and friends on a fun night out at the Oxford. Proceeds benefit Fami
 ly Resource Center. Seats are limited. Follow the link to register.
DTSTART;TZID=America/Los_Angeles:20241205T180000
DTEND;TZID=America/Los_Angeles:20241205T210000
LOCATION:Oxford Hotel \, 10 nw minnesota ave\, Bend\, OR 97701 US
SUMMARY:Paint Night at the Oxford
END:VEVENT
END:VCALENDAR
