BEGIN:VCALENDAR
VERSION:2.0
PRODID:-//frconline.org//NONSGML kigkonsult.se iCalcreator 2.30.10//
CALSCALE:GREGORIAN
METHOD:PUBLISH
UID:06d1367a-f51c-475b-8c74-47473c3458c2
X-WR-CALDESC:Keep Standard is for foster parents with children 4-12 years o
 ld.\nKEEP foster parent support groups provide foster parents a welcome pl
 ace to share experiences\, get tips and strategies\, and most importantly 
 the support that is critical in this frequently stressful role
X-WR-RELCALID:b826fd00e25b96a5e7d208278ae2fc09
X-WR-TIMEZONE:America/Los_Angeles
BEGIN:VTIMEZONE
TZID:America/Los_Angeles
BEGIN:STANDARD
TZNAME:PST
DTSTART:20241103T020000
TZOFFSETFROM:-0700
TZOFFSETTO:-0800
RDATE:20251102T020000
END:STANDARD
BEGIN:DAYLIGHT
TZNAME:PDT
DTSTART:20240310T020000
TZOFFSETFROM:-0800
TZOFFSETTO:-0700
RDATE:20250309T020000
RDATE:20260308T020000
END:DAYLIGHT
END:VTIMEZONE
BEGIN:VEVENT
UID:ffba3364-ade7-4262-8eac-acd64c7b4c40
DTSTAMP:20260422T213045Z
DESCRIPTION:Keep Standard is for foster parents with children 4-12 years ol
 d.\nKEEP foster parent support groups provide foster parents a welcome pla
 ce to share experiences\, get tips and strategies\, and most importantly t
 he support that is critical in this frequently stressful role
DTSTART;TZID=America/Los_Angeles:20241120T180000
DTEND;TZID=America/Los_Angeles:20241120T193000
LOCATION:Held on Zoom
SUMMARY:KEEP Standard
END:VEVENT
END:VCALENDAR
