BEGIN:VCALENDAR
VERSION:2.0
PRODID:-//frconline.org//NONSGML kigkonsult.se iCalcreator 2.30.10//
CALSCALE:GREGORIAN
METHOD:PUBLISH
UID:6e60758e-b695-4c28-8dc9-6e3047eb4ab7
X-WR-CALDESC:Discover ways to manage stress. \n\nLearn about child developm
 ent. \n\nBuild your toolkit for positive discipline and so much more!
X-WR-RELCALID:7ed12dffe3045e41276379c6376add89
X-WR-TIMEZONE:America/Los_Angeles
BEGIN:VTIMEZONE
TZID:America/Los_Angeles
BEGIN:STANDARD
TZNAME:PST
DTSTART:20241103T020000
TZOFFSETFROM:-0700
TZOFFSETTO:-0800
RDATE:20251102T020000
END:STANDARD
BEGIN:DAYLIGHT
TZNAME:PDT
DTSTART:20240310T020000
TZOFFSETFROM:-0800
TZOFFSETTO:-0700
RDATE:20250309T020000
RDATE:20260308T020000
END:DAYLIGHT
END:VTIMEZONE
BEGIN:VEVENT
UID:e13af726-e92e-42d5-9b34-621d17900519
DTSTAMP:20260422T213325Z
DESCRIPTION:Discover ways to manage stress. \n\nLearn about child developme
 nt. \n\nBuild your toolkit for positive discipline and so much more!
DTSTART;TZID=America/Los_Angeles:20241118T173000
DTEND;TZID=America/Los_Angeles:20241118T193000
LOCATION:OCDC\, 659 NE A St\, Madras\, OR 97741 US
SUMMARY:Make Parenting A Pleasure
END:VEVENT
END:VCALENDAR
