BEGIN:VCALENDAR
VERSION:2.0
PRODID:-//frconline.org//NONSGML kigkonsult.se iCalcreator 2.30.10//
CALSCALE:GREGORIAN
METHOD:PUBLISH
UID:49981908-866d-4243-9a97-43249d169187
X-WR-CALDESC:Zumbini is an early childhood program that uses music and move
 ment to promote cognitive\, social\, fine & gross motor skills\, and emoti
 onal development for children ages 0-4\, all while creating the ultimate b
 onding experience for you! Come experience the fun – no commitment necessa
 ry!
X-WR-RELCALID:c21001a35da4a34e51cc25a711286e0b
X-WR-TIMEZONE:America/Los_Angeles
BEGIN:VTIMEZONE
TZID:America/Los_Angeles
BEGIN:STANDARD
TZNAME:PST
DTSTART:20241103T020000
TZOFFSETFROM:-0700
TZOFFSETTO:-0800
RDATE:20251102T020000
END:STANDARD
BEGIN:DAYLIGHT
TZNAME:PDT
DTSTART:20240310T020000
TZOFFSETFROM:-0800
TZOFFSETTO:-0700
RDATE:20250309T020000
RDATE:20260308T020000
END:DAYLIGHT
END:VTIMEZONE
BEGIN:VEVENT
UID:f7c02a98-9c24-4038-978f-8f48d5b1f86a
DTSTAMP:20260422T212749Z
DESCRIPTION:Zumbini is an early childhood program that uses music and movem
 ent to promote cognitive\, social\, fine & gross motor skills\, and emotio
 nal development for children ages 0-4\, all while creating the ultimate bo
 nding experience for you! Come experience the fun – no commitment necessar
 y!
DTSTART;TZID=America/Los_Angeles:20241115T100000
DTEND;TZID=America/Los_Angeles:20241115T104500
LOCATION:Family Resource Center\, 2500 NE Twin Knolls Dr\, Bend\, OR 97701 
 US
SUMMARY:Zumbini
END:VEVENT
END:VCALENDAR
