BEGIN:VCALENDAR
VERSION:2.0
PRODID:-//frconline.org//NONSGML kigkonsult.se iCalcreator 2.30.10//
CALSCALE:GREGORIAN
METHOD:PUBLISH
UID:4f316688-2218-4470-920d-cef8fdd16967
X-WR-CALDESC:Learn about technology & social media\nHow brain development a
 ffects teen behavior and decision-making\nImprove communication & more!
X-WR-RELCALID:001c5e89eaf87ec8c272f2e795ddff9f
X-WR-TIMEZONE:America/Los_Angeles
BEGIN:VTIMEZONE
TZID:America/Los_Angeles
BEGIN:STANDARD
TZNAME:PST
DTSTART:20241103T020000
TZOFFSETFROM:-0700
TZOFFSETTO:-0800
RDATE:20251102T020000
END:STANDARD
BEGIN:DAYLIGHT
TZNAME:PDT
DTSTART:20240310T020000
TZOFFSETFROM:-0800
TZOFFSETTO:-0700
RDATE:20250309T020000
RDATE:20260308T020000
END:DAYLIGHT
END:VTIMEZONE
BEGIN:VEVENT
UID:4880da5a-28dd-4113-9f63-280b3943f6c5
DTSTAMP:20260422T212958Z
DESCRIPTION:Learn about technology & social media\nHow brain development af
 fects teen behavior and decision-making\nImprove communication & more!
DTSTART;TZID=America/Los_Angeles:20241112T173000
DTEND;TZID=America/Los_Angeles:20241112T193000
LOCATION:Held on Zoom
SUMMARY:Active Parenting of Teens
END:VEVENT
END:VCALENDAR
