BEGIN:VCALENDAR
VERSION:2.0
PRODID:-//frconline.org//NONSGML kigkonsult.se iCalcreator 2.30.10//
CALSCALE:GREGORIAN
METHOD:PUBLISH
UID:8670213d-0843-4ca8-a0b4-3634c2e934f3
X-WR-CALDESC:KEEP support groups provide a welcome place to share experienc
 es\, get tips and strategies\, and most importantly the support that is cr
 itical in this frequently stressful role.
X-WR-RELCALID:44b9114f6f945aba3e7102117d79b5f3
X-WR-TIMEZONE:America/Los_Angeles
BEGIN:VTIMEZONE
TZID:America/Los_Angeles
BEGIN:STANDARD
TZNAME:PST
DTSTART:20241103T020000
TZOFFSETFROM:-0700
TZOFFSETTO:-0800
RDATE:20251102T020000
END:STANDARD
BEGIN:DAYLIGHT
TZNAME:PDT
DTSTART:20240310T020000
TZOFFSETFROM:-0800
TZOFFSETTO:-0700
RDATE:20250309T020000
RDATE:20260308T020000
END:DAYLIGHT
END:VTIMEZONE
BEGIN:VEVENT
UID:11408bf6-0b18-46a4-b51f-5b6102c154ed
DTSTAMP:20260424T094731Z
DESCRIPTION:KEEP support groups provide a welcome place to share experience
 s\, get tips and strategies\, and most importantly the support that is cri
 tical in this frequently stressful role.
DTSTART;TZID=America/Los_Angeles:20241107T180000
DTEND;TZID=America/Los_Angeles:20241107T193000
LOCATION:Held on Zoom
SUMMARY:KEEP Toddler
END:VEVENT
END:VCALENDAR
