BEGIN:VCALENDAR
VERSION:2.0
PRODID:-//frconline.org//NONSGML kigkonsult.se iCalcreator 2.30.10//
CALSCALE:GREGORIAN
METHOD:PUBLISH
UID:13db48ee-c21c-41cf-ac68-1c2922f264dd
X-WR-CALDESC:Learn how to help your child feel safe\, regulate their emotio
 ns\, and build their self-esteem.
X-WR-RELCALID:f82916971d095c1178d2a48cee81a2e9
X-WR-TIMEZONE:America/Los_Angeles
BEGIN:VTIMEZONE
TZID:America/Los_Angeles
BEGIN:STANDARD
TZNAME:PST
DTSTART:20231105T020000
TZOFFSETFROM:-0700
TZOFFSETTO:-0800
RDATE:20241103T020000
RDATE:20251102T020000
END:STANDARD
BEGIN:DAYLIGHT
TZNAME:PDT
DTSTART:20240310T020000
TZOFFSETFROM:-0800
TZOFFSETTO:-0700
RDATE:20250309T020000
RDATE:20260308T020000
END:DAYLIGHT
END:VTIMEZONE
BEGIN:VEVENT
UID:2a7f51f5-71f3-48e0-804f-7d2c17f85589
DTSTAMP:20260422T212804Z
DESCRIPTION:Learn how to help your child feel safe\, regulate their emotion
 s\, and build their self-esteem.
DTSTART;TZID=America/Los_Angeles:20241104T173000
DTEND;TZID=America/Los_Angeles:20241104T193000
LOCATION:Held on Zoom
SUMMARY:Circle of Security
END:VEVENT
END:VCALENDAR
