BEGIN:VCALENDAR
VERSION:2.0
PRODID:-//frconline.org//NONSGML kigkonsult.se iCalcreator 2.30.10//
CALSCALE:GREGORIAN
METHOD:PUBLISH
UID:02fc8eee-6554-4d23-b3e5-311ba95460cd
X-WR-CALDESC:Discover ways to manage stress. \n\nLearn about child developm
 ent. \n\nBuild your toolkit for positive discipline and so much more!
X-WR-RELCALID:93be1b1c56504910de21841c27a4b154
X-WR-TIMEZONE:America/Los_Angeles
BEGIN:VTIMEZONE
TZID:America/Los_Angeles
BEGIN:STANDARD
TZNAME:PST
DTSTART:20231105T020000
TZOFFSETFROM:-0700
TZOFFSETTO:-0800
RDATE:20241103T020000
RDATE:20251102T020000
END:STANDARD
BEGIN:DAYLIGHT
TZNAME:PDT
DTSTART:20240310T020000
TZOFFSETFROM:-0800
TZOFFSETTO:-0700
RDATE:20250309T020000
RDATE:20260308T020000
END:DAYLIGHT
END:VTIMEZONE
BEGIN:VEVENT
UID:57d8500a-6f98-4929-a8da-02f5fda2c047
DTSTAMP:20260424T105322Z
DESCRIPTION:Discover ways to manage stress. \n\nLearn about child developme
 nt. \n\nBuild your toolkit for positive discipline and so much more!
DTSTART;TZID=America/Los_Angeles:20241021T173000
DTEND;TZID=America/Los_Angeles:20241021T193000
LOCATION:OCDC\, 659 NE A St\, Madras\, OR 97741 US
SUMMARY:Make Parenting A Pleasure
END:VEVENT
END:VCALENDAR
