BEGIN:VCALENDAR
VERSION:2.0
PRODID:-//frconline.org//NONSGML kigkonsult.se iCalcreator 2.30.10//
CALSCALE:GREGORIAN
METHOD:PUBLISH
UID:992b9611-0451-4bac-b0fb-74bb38bd2554
X-WR-CALDESC:Improve Communication! \nDiscuss Tech & Teens - Brain Developm
 ent & Decision Making
X-WR-RELCALID:58a5b2a8924b143d7986dea3a1bdf2d9
X-WR-TIMEZONE:America/Los_Angeles
BEGIN:VTIMEZONE
TZID:America/Los_Angeles
BEGIN:STANDARD
TZNAME:PST
DTSTART:20231105T020000
TZOFFSETFROM:-0700
TZOFFSETTO:-0800
RDATE:20241103T020000
RDATE:20251102T020000
END:STANDARD
BEGIN:DAYLIGHT
TZNAME:PDT
DTSTART:20240310T020000
TZOFFSETFROM:-0800
TZOFFSETTO:-0700
RDATE:20250309T020000
RDATE:20260308T020000
END:DAYLIGHT
END:VTIMEZONE
BEGIN:VEVENT
UID:c1366ab4-ec84-4ca7-b040-4bced74e7d6b
DTSTAMP:20260424T111617Z
DESCRIPTION:Improve Communication! \nDiscuss Tech & Teens - Brain Developme
 nt & Decision Making
DTSTART;TZID=America/Los_Angeles:20241017T180000
DTEND;TZID=America/Los_Angeles:20241017T200000
LOCATION:Held on Zoom
SUMMARY:Active Parenting of Teens
END:VEVENT
END:VCALENDAR
