BEGIN:VCALENDAR
VERSION:2.0
PRODID:-//frconline.org//NONSGML kigkonsult.se iCalcreator 2.30.10//
CALSCALE:GREGORIAN
METHOD:PUBLISH
UID:add49e69-20b0-406d-afc8-71d5e5c9d741
X-WR-CALDESC:We invite all students and their families of Powell Butte Comm
 unity Charter School to join us for a night of fun\, land centered activit
 ies. Dinner will be served. Scan the QR to RSVP today!
X-WR-RELCALID:5ae3b97a3c213a728a7dfd40581212a1
X-WR-TIMEZONE:America/Los_Angeles
BEGIN:VTIMEZONE
TZID:America/Los_Angeles
BEGIN:STANDARD
TZNAME:PST
DTSTART:20231105T020000
TZOFFSETFROM:-0700
TZOFFSETTO:-0800
RDATE:20241103T020000
RDATE:20251102T020000
END:STANDARD
BEGIN:DAYLIGHT
TZNAME:PDT
DTSTART:20240310T020000
TZOFFSETFROM:-0800
TZOFFSETTO:-0700
RDATE:20250309T020000
RDATE:20260308T020000
END:DAYLIGHT
END:VTIMEZONE
BEGIN:VEVENT
UID:8e96207f-2092-4287-84a9-44da9bbcf469
DTSTAMP:20260424T111451Z
DESCRIPTION:We invite all students and their families of Powell Butte Commu
 nity Charter School to join us for a night of fun\, land centered activiti
 es. Dinner will be served. Scan the QR to RSVP today!
DTSTART;TZID=America/Los_Angeles:20241004T173000
DTEND;TZID=America/Los_Angeles:20241004T190000
LOCATION:Powell Butte Community Charter School\, 13650 SW Hwy 126 \, Powell
  Butte\, OR 97753 US
SUMMARY:Lay of the Land Family Night
END:VEVENT
END:VCALENDAR
